BEGIN:VCALENDAR
PRODID:-//punkave//apostrophe 1.x//EN
VERSION:1.0
TZ:0
BEGIN:VEVENT
CATEGORIES:MEETING
DTSTART:20121022T220000Z
DTEND:20121023T000000Z
DTSTAMP:20120816T040000Z
SUMMARY:Board Meeting
DESCRIPTION:Board Meetings are always open to GTS parents. (Changed from 10/15)
LOCATION:
UID:1113
END:VEVENT
END:VCALENDAR