BEGIN:VCALENDAR
PRODID:-//punkave//apostrophe 1.x//EN
VERSION:1.0
TZ:0
BEGIN:VEVENT
CATEGORIES:MEETING
DTSTART:20121022T040000Z
DTEND:20121117T175959Z
DTSTAMP:20120816T040000Z
SUMMARY:Parent Observations
DESCRIPTION:Sign up for observations by calling or stopping by the office.
LOCATION:
UID:1121
END:VEVENT
END:VCALENDAR