BEGIN:VCALENDAR
PRODID:-//punkave//apostrophe 1.x//EN
VERSION:1.0
TZ:0
BEGIN:VEVENT
CATEGORIES:MEETING
DTSTART:20121023T121500Z
DTEND:20121023T130000Z
DTSTAMP:20120816T040000Z
SUMMARY:Coffee with Jennifer Coulter
DESCRIPTION:Primary parents coffee with Jennifer Coulter.
LOCATION:
UID:1122
END:VEVENT
END:VCALENDAR