BEGIN:VCALENDAR
PRODID:-//punkave//apostrophe 1.x//EN
VERSION:1.0
TZ:0
BEGIN:VEVENT
CATEGORIES:MEETING
DTSTART:20121023T040000Z
DTEND:20121025T165959Z
DTSTAMP:20120816T040000Z
SUMMARY:Kindergarten Lunch Around the World: Mediterranean
DESCRIPTION:No lunch needed for SOME K students today. Another group will go on Thursday, October 25.
LOCATION:
UID:1123
END:VEVENT
END:VCALENDAR