BEGIN:VCALENDAR
PRODID:-//punkave//apostrophe 1.x//EN
VERSION:1.0
TZ:0
BEGIN:VEVENT
CATEGORIES:MEETING
DTSTART:20121024T223000Z
DTEND:20121025T000000Z
DTSTAMP:20120816T040000Z
SUMMARY:Admissions Open House
DESCRIPTION:For prospective parents.
LOCATION:
UID:1124
END:VEVENT
END:VCALENDAR