BEGIN:VCALENDAR
PRODID:-//punkave//apostrophe 1.x//EN
VERSION:1.0
TZ:0
BEGIN:VEVENT
CATEGORIES:MEETING
DTSTART:20121025T040000Z
DTEND:20121027T165959Z
DTSTAMP:20120816T040000Z
SUMMARY:Kindergarten Lunch Around the World: Mediterranean
DESCRIPTION:No lunch needed for SOME K students today. Another group went on Tuesday, October 23.
LOCATION:
UID:1125
END:VEVENT
END:VCALENDAR