BEGIN:VCALENDAR
PRODID:-//punkave//apostrophe 1.x//EN
VERSION:1.0
TZ:0
BEGIN:VEVENT
CATEGORIES:MEETING
DTSTART:20121030T121500Z
DTEND:20121030T130000Z
DTSTAMP:20120816T040000Z
SUMMARY:Coffee with Anna Matsukevich
DESCRIPTION:Primary parents coffee with Anna Matsukevich,
LOCATION:
UID:1126
END:VEVENT
END:VCALENDAR