BEGIN:VCALENDAR
PRODID:-//punkave//apostrophe 1.x//EN
VERSION:1.0
TZ:0
BEGIN:VEVENT
CATEGORIES:MEETING
DTSTART:20121101T121500Z
DTEND:20121101T130000Z
DTSTAMP:20120817T040000Z
SUMMARY:First Thursday Coffee: Sleeping and Eating
DESCRIPTION:We invite all parents to join in First Thursday Coffees!
LOCATION:
UID:1127
END:VEVENT
END:VCALENDAR