BEGIN:VCALENDAR
PRODID:-//punkave//apostrophe 1.x//EN
VERSION:1.0
TZ:0
BEGIN:VEVENT
CATEGORIES:MEETING
DTSTART:20121102T213000Z
DTEND:20121102T233000Z
DTSTAMP:20120817T040000Z
SUMMARY:Fall Parent Social
DESCRIPTION:Parent only social.
LOCATION:
UID:1129
END:VEVENT
END:VCALENDAR