BEGIN:VCALENDAR
PRODID:-//punkave//apostrophe 1.x//EN
VERSION:1.0
TZ:0
BEGIN:VEVENT
CATEGORIES:MEETING
DTSTART:20121102T154500Z
DTEND:20121102T154500Z
DTSTAMP:20120817T040000Z
SUMMARY:Staff In-Service: 11:45 DISMISSAL
DESCRIPTION:No afternoon programs, ADM is in session.
LOCATION:
UID:1128
END:VEVENT
END:VCALENDAR