BEGIN:VCALENDAR
PRODID:-//punkave//apostrophe 1.x//EN
VERSION:1.0
TZ:0
BEGIN:VEVENT
CATEGORIES:MEETING
DTSTART:20121105T050000Z
DTEND:20121107T175959Z
DTSTAMP:20120817T040000Z
SUMMARY:Thanksgiving Food Drive Starts
DESCRIPTION:
LOCATION:
UID:1130
END:VEVENT
END:VCALENDAR