BEGIN:VCALENDAR
PRODID:-//punkave//apostrophe 1.x//EN
VERSION:1.0
TZ:0
BEGIN:VEVENT
CATEGORIES:MEETING
DTSTART:20121107T131500Z
DTEND:20121107T140000Z
DTSTAMP:20120817T040000Z
SUMMARY:Kindergarten Parent to Parent Coffee
DESCRIPTION:This coffee is for current and next year\'s K parents.
LOCATION:
UID:1131
END:VEVENT
END:VCALENDAR