BEGIN:VCALENDAR
PRODID:-//punkave//apostrophe 1.x//EN
VERSION:1.0
TZ:0
BEGIN:VEVENT
CATEGORIES:MEETING
DTSTART:20121116T050000Z
DTEND:20121118T175959Z
DTSTAMP:20120817T040000Z
SUMMARY:Parent/Teacher Conferences: SCHOOL CLOSED
DESCRIPTION:Care available during conference time(s). ADM in session.
LOCATION:
UID:1133
END:VEVENT
END:VCALENDAR