BEGIN:VCALENDAR
PRODID:-//punkave//apostrophe 1.x//EN
VERSION:1.0
TZ:0
BEGIN:VEVENT
CATEGORIES:MEETING
DTSTART:20121121T164500Z
DTEND:20121121T164500Z
DTSTAMP:20120817T040000Z
SUMMARY:Thanksgiving Holiday: 11:45 DISMISSAL
DESCRIPTION:Today is PAJAMA DAY! ADM is NOT in session.
LOCATION:
UID:1135
END:VEVENT
END:VCALENDAR