BEGIN:VCALENDAR
PRODID:-//punkave//apostrophe 1.x//EN
VERSION:1.0
TZ:0
BEGIN:VEVENT
CATEGORIES:MEETING
DTSTART:20121122T050000Z
DTEND:20121125T175959Z
DTSTAMP:20120817T040000Z
SUMMARY:Thanksgiving Holiday: SCHOOL CLOSED
DESCRIPTION:ADM CLOSED.
LOCATION:
UID:1136
END:VEVENT
END:VCALENDAR