BEGIN:VCALENDAR
PRODID:-//punkave//apostrophe 1.x//EN
VERSION:1.0
TZ:0
BEGIN:VEVENT
CATEGORIES:MEETING
DTSTART:20121130T050000Z
DTEND:20121202T175959Z
DTSTAMP:20120817T040000Z
SUMMARY:Kindergarten Lunch Around the World: Puerto Rico
DESCRIPTION:K students do not need to bring lunch on this day.
LOCATION:
UID:1138
END:VEVENT
END:VCALENDAR