BEGIN:VCALENDAR
PRODID:-//punkave//apostrophe 1.x//EN
VERSION:1.0
TZ:0
BEGIN:VEVENT
CATEGORIES:MEETING
DTSTART:20121203T050000Z
DTEND:20121205T175959Z
DTSTAMP:20120817T040000Z
SUMMARY:Holiday Toy Drive Begins
DESCRIPTION:
LOCATION:
UID:1139
END:VEVENT
END:VCALENDAR