BEGIN:VCALENDAR
PRODID:-//punkave//apostrophe 1.x//EN
VERSION:1.0
TZ:0
BEGIN:VEVENT
CATEGORIES:MEETING
DTSTART:20121210T230000Z
DTEND:20121211T010000Z
DTSTAMP:20120817T040000Z
SUMMARY:Board Meeting
DESCRIPTION:Board Meetings are always open to GTS parents.
LOCATION:
UID:1141
END:VEVENT
END:VCALENDAR