BEGIN:VCALENDAR
PRODID:-//punkave//apostrophe 1.x//EN
VERSION:1.0
TZ:0
BEGIN:VEVENT
CATEGORIES:MEETING
DTSTART:20121211T223000Z
DTEND:20121211T233000Z
DTSTAMP:20120817T040000Z
SUMMARY:Primary Parent/Child Classroom Visit (Returning Children)
DESCRIPTION:This is a special evening for second year and beyond children to bring their parents to the classroom. New (first year) children will have a visit in January.
LOCATION:
UID:1142
END:VEVENT
END:VCALENDAR