BEGIN:VCALENDAR
PRODID:-//punkave//apostrophe 1.x//EN
VERSION:1.0
TZ:0
BEGIN:VEVENT
CATEGORIES:MEETING
DTSTART:20121214T050000Z
DTEND:20121216T175959Z
DTSTAMP:20120817T040000Z
SUMMARY:Kindergarten Lunch Around the World: Poland
DESCRIPTION:K students do not need to bring lunch this day.
LOCATION:
UID:1143
END:VEVENT
END:VCALENDAR