BEGIN:VCALENDAR
PRODID:-//punkave//apostrophe 1.x//EN
VERSION:1.0
TZ:0
BEGIN:VEVENT
CATEGORIES:MEETING
DTSTART:20121224T050000Z
DTEND:20130103T175959Z
DTSTAMP:20120817T040000Z
SUMMARY:Winter Break: SCHOOL CLOSED
DESCRIPTION:ADM CLOSED.
LOCATION:
UID:1145
END:VEVENT
END:VCALENDAR