BEGIN:VCALENDAR
PRODID:-//punkave//apostrophe 1.x//EN
VERSION:1.0
TZ:0
BEGIN:VEVENT
CATEGORIES:MEETING
DTSTART:20130102T050000Z
DTEND:20130104T175959Z
DTSTAMP:20120818T040000Z
SUMMARY:Classes Resume
DESCRIPTION:
LOCATION:
UID:1147
END:VEVENT
END:VCALENDAR