BEGIN:VCALENDAR
PRODID:-//punkave//apostrophe 1.x//EN
VERSION:1.0
TZ:0
BEGIN:VEVENT
CATEGORIES:MEETING
DTSTART:20130111T223000Z
DTEND:20130112T003000Z
DTSTAMP:20130101T050000Z
SUMMARY:Winter Parent Social
DESCRIPTION:Parent only social. 5:30-7:30PM TEN STONE BAR & GRILL (back room) 2063 SOUTH STREET Discounted beers & appetizers will be available
LOCATION:
UID:1148
END:VEVENT
END:VCALENDAR