BEGIN:VCALENDAR
PRODID:-//punkave//apostrophe 1.x//EN
VERSION:1.0
TZ:0
BEGIN:VEVENT
CATEGORIES:MEETING
DTSTART:20130114T230000Z
DTEND:20130115T010000Z
DTSTAMP:20120818T040000Z
SUMMARY:Board Meeting
DESCRIPTION:Board Meetings are always open to GTS parents.
LOCATION:
UID:1149
END:VEVENT
END:VCALENDAR