BEGIN:VCALENDAR
PRODID:-//punkave//apostrophe 1.x//EN
VERSION:1.0
TZ:0
BEGIN:VEVENT
CATEGORIES:MEETING
DTSTART:20130116T220000Z
DTEND:20130116T230000Z
DTSTAMP:20120818T040000Z
SUMMARY:Primary Parent/Child Classroom Visit (First Year)
DESCRIPTION:This is a special evening for first year children to bring their parents to the classroom. Second year and beyond children had a visit in December.
LOCATION:
UID:1150
END:VEVENT
END:VCALENDAR