BEGIN:VCALENDAR
PRODID:-//punkave//apostrophe 1.x//EN
VERSION:1.0
TZ:0
BEGIN:VEVENT
CATEGORIES:MEETING
DTSTART:20130118T050000Z
DTEND:20130120T175959Z
DTSTAMP:20120818T040000Z
SUMMARY:Staff In-Service: SCHOOL CLOSED
DESCRIPTION:ADM in session.
LOCATION:
UID:1151
END:VEVENT
END:VCALENDAR