BEGIN:VCALENDAR
PRODID:-//punkave//apostrophe 1.x//EN
VERSION:1.0
TZ:0
BEGIN:VEVENT
CATEGORIES:MEETING
DTSTART:20130121T050000Z
DTEND:20130123T175959Z
DTSTAMP:20120818T040000Z
SUMMARY:Martin Luther King, Jr. Day: SCHOOL CLOSED
DESCRIPTION:ADM CLOSED.
LOCATION:
UID:1152
END:VEVENT
END:VCALENDAR