BEGIN:VCALENDAR
PRODID:-//punkave//apostrophe 1.x//EN
VERSION:1.0
TZ:0
BEGIN:VEVENT
CATEGORIES:MEETING
DTSTART:20130125T050000Z
DTEND:20130127T175959Z
DTSTAMP:20120818T040000Z
SUMMARY:Kindergarten Lunch Around the World: India
DESCRIPTION:K students do not need to bring lunch this day.
LOCATION:
UID:1153
END:VEVENT
END:VCALENDAR