BEGIN:VCALENDAR
PRODID:-//punkave//apostrophe 1.x//EN
VERSION:1.0
TZ:0
BEGIN:VEVENT
CATEGORIES:MEETING
DTSTART:20130131T050000Z
DTEND:20130202T175959Z
DTSTAMP:20120818T040000Z
SUMMARY:Primary Picture Day
DESCRIPTION:It\'s Picture Day! Make sure to get to school EARLY as we will start taking pics at 9am SHARP, or before if a class is ready to go! Toddlers and ADM students will take pictures tomorrow (2/1), same time!
LOCATION:
UID:1154
END:VEVENT
END:VCALENDAR