BEGIN:VCALENDAR
PRODID:-//punkave//apostrophe 1.x//EN
VERSION:1.0
TZ:0
BEGIN:VEVENT
CATEGORIES:MEETING
DTSTART:20130201T050000Z
DTEND:20130203T175959Z
DTSTAMP:20120818T040000Z
SUMMARY:Re-Enrollment Due
DESCRIPTION:
LOCATION:
UID:1156
END:VEVENT
END:VCALENDAR