BEGIN:VCALENDAR
PRODID:-//punkave//apostrophe 1.x//EN
VERSION:1.0
TZ:0
BEGIN:VEVENT
CATEGORIES:MEETING
DTSTART:20130201T050000Z
DTEND:20130203T175959Z
DTSTAMP:20120818T040000Z
SUMMARY:Toddler and ADM Picture Day
DESCRIPTION:It\'s Picture Day! Make sure to get to school EARLY as we will start taking pics at 9am SHARP, or before if a class is ready to go! Primary students took pictures pictures yesterday, 1/31.
LOCATION:
UID:1155
END:VEVENT
END:VCALENDAR