BEGIN:VCALENDAR
PRODID:-//punkave//apostrophe 1.x//EN
VERSION:1.0
TZ:0
BEGIN:VEVENT
CATEGORIES:MEETING
DTSTART:20130207T131500Z
DTEND:20130207T140000Z
DTSTAMP:20120820T040000Z
SUMMARY:First Thursday Coffee: Montessori at Home
DESCRIPTION:We invite all parents to join in First Thursday Coffees!
LOCATION:
UID:1158
END:VEVENT
END:VCALENDAR