BEGIN:VCALENDAR
PRODID:-//punkave//apostrophe 1.x//EN
VERSION:1.0
TZ:0
BEGIN:VEVENT
CATEGORIES:MEETING
DTSTART:20130212T131500Z
DTEND:20130212T140000Z
DTSTAMP:20120820T040000Z
SUMMARY:Coffee with Michelle Nowacky
DESCRIPTION:Toddler Parents coffee with Michelle Nowacky.
LOCATION:
UID:1160
END:VEVENT
END:VCALENDAR