BEGIN:VCALENDAR
PRODID:-//punkave//apostrophe 1.x//EN
VERSION:1.0
TZ:0
BEGIN:VEVENT
CATEGORIES:MEETING
DTSTART:20130218T050000Z
DTEND:20130220T175959Z
DTSTAMP:20120919T040000Z
SUMMARY:President\'s Day : SCHOOL CLOSED
DESCRIPTION:ADM Closed.
LOCATION:
UID:1187
END:VEVENT
END:VCALENDAR