BEGIN:VCALENDAR
PRODID:-//punkave//apostrophe 1.x//EN
VERSION:1.0
TZ:0
BEGIN:VEVENT
CATEGORIES:MEETING
DTSTART:20130220T223000Z
DTEND:20130221T233000Z
DTSTAMP:20120820T040000Z
SUMMARY:Toddler House Parent/Child Visit
DESCRIPTION:Wednesday or Thursday, 2/20 and 2/21, Toddlers can bring their parents to class and show off their work!
LOCATION:
UID:1165
END:VEVENT
END:VCALENDAR