BEGIN:VCALENDAR
PRODID:-//punkave//apostrophe 1.x//EN
VERSION:1.0
TZ:0
BEGIN:VEVENT
CATEGORIES:MEETING
DTSTART:20130220T131500Z
DTEND:20130220T140000Z
DTSTAMP:20120820T040000Z
SUMMARY:Coffee with Jean Prestas
DESCRIPTION:Primary Parents coffee with Jean Prestas.
LOCATION:
UID:1164
END:VEVENT
END:VCALENDAR