BEGIN:VCALENDAR
PRODID:-//punkave//apostrophe 1.x//EN
VERSION:1.0
TZ:0
BEGIN:VEVENT
CATEGORIES:MEETING
DTSTART:20130222T050000Z
DTEND:20130224T175959Z
DTSTAMP:20120820T040000Z
SUMMARY:Kindergarten Lunch Around the World: Eastern European Jewish
DESCRIPTION:No lunch needed for K students today
LOCATION:
UID:1166
END:VEVENT
END:VCALENDAR