BEGIN:VCALENDAR
PRODID:-//punkave//apostrophe 1.x//EN
VERSION:1.0
TZ:0
BEGIN:VEVENT
CATEGORIES:MEETING
DTSTART:20130227T003000Z
DTEND:20130227T023000Z
DTSTAMP:20130222T024200Z
SUMMARY:Book Signing and Bullying Panel
DESCRIPTION:Defeating the Culture of Bullying: A Panel Discussion with Emily Bazelon at Greene Towne Montessori School Please join us on Tuesday, February 26, 2013 at Greene Towne Montessori School as we welcome author Emily Bazelon! 7:30 pm Wine and Cheese Reception and Book Signing 8:00 pm Panel Discussion moderated by Amber West Buller, Ph.D. Panelists: Emily Bazelon, Craig Stevens, Wanda Moore RSVP required. Click HERE or call Nicole at 215-563-6368 to RSVP for this limited seating event-we are almost at capacity!
LOCATION:Greene Towne Montessori School, 3rd Floor
UID:1383
END:VEVENT
END:VCALENDAR