BEGIN:VCALENDAR
PRODID:-//punkave//apostrophe 1.x//EN
VERSION:1.0
TZ:0
BEGIN:VEVENT
CATEGORIES:MEETING
DTSTART:20130226T131500Z
DTEND:20130226T140000Z
DTSTAMP:20120820T040000Z
SUMMARY:Coffee with Jennifer Coulter
DESCRIPTION:Primary Parents coffee with Jennifer Coulter.
LOCATION:
UID:1167
END:VEVENT
END:VCALENDAR