BEGIN:VCALENDAR
PRODID:-//punkave//apostrophe 1.x//EN
VERSION:1.0
TZ:0
BEGIN:VEVENT
CATEGORIES:MEETING
DTSTART:20130228T131500Z
DTEND:20130228T140000Z
DTSTAMP:20130108T053254Z
SUMMARY:Coffee with Anna Matsukevich
DESCRIPTION:Primary Parents coffee with Anna Matsukevich.
LOCATION:
UID:1169
END:VEVENT
END:VCALENDAR