BEGIN:VCALENDAR
PRODID:-//punkave//apostrophe 1.x//EN
VERSION:1.0
TZ:0
BEGIN:VEVENT
CATEGORIES:MEETING
DTSTART:20130303T050000Z
DTEND:20130305T175959Z
DTSTAMP:20120926T040000Z
SUMMARY:Greene Towne School Annual Live and Silent Auction
DESCRIPTION:
LOCATION:
UID:1195
END:VEVENT
END:VCALENDAR