BEGIN:VCALENDAR
PRODID:-//punkave//apostrophe 1.x//EN
VERSION:1.0
TZ:0
BEGIN:VEVENT
CATEGORIES:MEETING
DTSTART:20130319T223000Z
DTEND:20130320T000000Z
DTSTAMP:20130108T053828Z
SUMMARY:Admissions Open House
DESCRIPTION:
LOCATION:
UID:1325
END:VEVENT
END:VCALENDAR