BEGIN:VCALENDAR
PRODID:-//punkave//apostrophe 1.x//EN
VERSION:1.0
TZ:0
BEGIN:VEVENT
CATEGORIES:MEETING
DTSTART:20130322T153000Z
DTEND:20130322T163000Z
DTSTAMP:20130108T053947Z
SUMMARY:Kindergarten LATW: Pennsylvania Dutch
DESCRIPTION:K students do not need to bring lunch this day!
LOCATION:
UID:1326
END:VEVENT
END:VCALENDAR