BEGIN:VCALENDAR
PRODID:-//punkave//apostrophe 1.x//EN
VERSION:1.0
TZ:0
BEGIN:VEVENT
CATEGORIES:MEETING
DTSTART:20130325T040000Z
DTEND:20130331T165959Z
DTSTAMP:20130112T055215Z
SUMMARY:Spring Break: SCHOOL CLOSED
DESCRIPTION:ADM in session this week.
LOCATION:
UID:1335
END:VEVENT
END:VCALENDAR