BEGIN:VCALENDAR
PRODID:-//punkave//apostrophe 1.x//EN
VERSION:1.0
TZ:0
BEGIN:VEVENT
CATEGORIES:MEETING
DTSTART:20130405T040000Z
DTEND:20130407T165959Z
DTSTAMP:20130112T060846Z
SUMMARY:Parent/Teacher Conferences: SCHOOL CLOSED
DESCRIPTION:ADM is in session.
LOCATION:
UID:1338
END:VEVENT
END:VCALENDAR