BEGIN:VCALENDAR
PRODID:-//punkave//apostrophe 1.x//EN
VERSION:1.0
TZ:0
BEGIN:VEVENT
CATEGORIES:MEETING
DTSTART:20130416T040000Z
DTEND:20130418T165959Z
DTSTAMP:20130112T061500Z
SUMMARY:K Field Trip
DESCRIPTION:
LOCATION:
UID:1340
END:VEVENT
END:VCALENDAR