BEGIN:VCALENDAR
PRODID:-//punkave//apostrophe 1.x//EN
VERSION:1.0
TZ:0
BEGIN:VEVENT
CATEGORIES:MEETING
DTSTART:20130416T230000Z
DTEND:20130417T003000Z
DTSTAMP:20120817T040000Z
SUMMARY:Parent Education: Technology and Kids
DESCRIPTION:Featuring Casey Hoffman, PhD, Psychologist at the Children\'s Hospital of Philadelphia.
LOCATION:
UID:1137
END:VEVENT
END:VCALENDAR