BEGIN:VCALENDAR
PRODID:-//punkave//apostrophe 1.x//EN
VERSION:1.0
TZ:0
BEGIN:VEVENT
CATEGORIES:MEETING
DTSTART:20130418T121500Z
DTEND:20130418T130000Z
DTSTAMP:20130412T215800Z
SUMMARY:ADM Toddler and Primary Parent Coffee
DESCRIPTION:All Day Montessori Primary and Toddler Parent Coffee Thursday, April 18, 8:15 at GTMS-East. Come learn more about our All Day Montessori plans and the new spaces for next year.
LOCATION:
UID:1434
END:VEVENT
END:VCALENDAR