BEGIN:VCALENDAR
PRODID:-//punkave//apostrophe 1.x//EN
VERSION:1.0
TZ:0
BEGIN:VEVENT
CATEGORIES:MEETING
DTSTART:20130419T153000Z
DTEND:20130419T163000Z
DTSTAMP:20130108T054121Z
SUMMARY:Kindergarten LATW: Italy
DESCRIPTION:K students do not need to bring lunch this day.
LOCATION:
UID:1327
END:VEVENT
END:VCALENDAR