BEGIN:VCALENDAR
PRODID:-//punkave//apostrophe 1.x//EN
VERSION:1.0
TZ:0
BEGIN:VEVENT
CATEGORIES:MEETING
DTSTART:20130425T040000Z
DTEND:20130427T165959Z
DTSTAMP:20130116T010000Z
SUMMARY:GTMS Earth/Arbor Day Celebration
DESCRIPTION:
LOCATION:
UID:1341
END:VEVENT
END:VCALENDAR